BEGIN:VCALENDAR
VERSION:2.0
PRODID:-//Boom Island Brewing - ECPv6.15.20//NONSGML v1.0//EN
CALSCALE:GREGORIAN
METHOD:PUBLISH
X-WR-CALNAME:Boom Island Brewing
X-ORIGINAL-URL:https://boomislandbrewing.com
X-WR-CALDESC:Events for Boom Island Brewing
REFRESH-INTERVAL;VALUE=DURATION:PT1H
X-Robots-Tag:noindex
X-PUBLISHED-TTL:PT1H
BEGIN:VTIMEZONE
TZID:America/Chicago
BEGIN:DAYLIGHT
TZOFFSETFROM:-0600
TZOFFSETTO:-0500
TZNAME:CDT
DTSTART:20250309T080000
END:DAYLIGHT
BEGIN:STANDARD
TZOFFSETFROM:-0500
TZOFFSETTO:-0600
TZNAME:CST
DTSTART:20251102T070000
END:STANDARD
BEGIN:DAYLIGHT
TZOFFSETFROM:-0600
TZOFFSETTO:-0500
TZNAME:CDT
DTSTART:20260308T080000
END:DAYLIGHT
BEGIN:STANDARD
TZOFFSETFROM:-0500
TZOFFSETTO:-0600
TZNAME:CST
DTSTART:20261101T070000
END:STANDARD
BEGIN:DAYLIGHT
TZOFFSETFROM:-0600
TZOFFSETTO:-0500
TZNAME:CDT
DTSTART:20270314T080000
END:DAYLIGHT
BEGIN:STANDARD
TZOFFSETFROM:-0500
TZOFFSETTO:-0600
TZNAME:CST
DTSTART:20271107T070000
END:STANDARD
END:VTIMEZONE
BEGIN:VEVENT
DTSTART;TZID=America/Chicago:20260414T180000
DTEND;TZID=America/Chicago:20260414T200000
DTSTAMP:20260420T030613
CREATED:20260324T213251Z
LAST-MODIFIED:20260324T213255Z
UID:10002976-1776189600-1776196800@boomislandbrewing.com
SUMMARY:Sourdough 101 Workshop
DESCRIPTION:Join us for a fun and interactive sourdough workshop at Boom Island Brewing! Learn the art of making your own sourdough bread from scratch. \n\n\n\nYou will leave class with dough to bake at home and a well established\, 106 year old starter! \n\n\n\nPlease bring: large mixing bowl and dish towel \n\n\n\nClass fee also includes drink of your choice from Boom Island Brewing Co. \n\n\n\n\nRegister Here!\n\n\n\n\nAny questions? Please contact Elaine Dube: hellosimple.elaine@gmail.com
URL:https://boomislandbrewing.com/event/sourdough-101-workshop-2/
LOCATION:Boom Island Brewing\, 5959 Baker Rd\, Suite 320\, Minnetonka\, MN\, 55345\, United States
CATEGORIES:Guided Art,Special Event,Workshop
ATTACH;FMTTYPE=image/png:https://boomislandbrewing.com/wp-content/uploads/2025/02/Sourdough-101-Workshop-graphic.png
END:VEVENT
END:VCALENDAR